BEGIN:VCALENDAR
VERSION:2.0
PRODID:-//wp-events-plugin.com//6.6.5//EN
TZID:Europe/Vienna
X-WR-TIMEZONE:Europe/Vienna
BEGIN:VEVENT
UID:278@gutenbrunn.gv.at
DTSTART;TZID=Europe/Vienna:20260116T190000
DTEND;TZID=Europe/Vienna:20260116T190000
DTSTAMP:20260307T170051Z
URL:https://www.gutenbrunn.gv.at/veranstaltungen/sparverein-2-2026-01-16/
SUMMARY:Sparverein
DESCRIPTION:
ATTACH;FMTTYPE=image/jpeg:https://www.gutenbrunn.gv.at/wp-content/uploads/
 2026/01/sparverein-2026-1.jpg
CATEGORIES:Sparverein
LOCATION:Café Hofer\, Gutenbrunn 21\, Gutenbrunn\, Niederösterreich\, 366
 5\, Bezirk Zwettl\, Österreich
GEO:48.364812;15.118076
X-APPLE-STRUCTURED-LOCATION;VALUE=URI;X-ADDRESS=Gutenbrunn 21\, Gutenbrunn\
 , Niederösterreich\, 3665\, Bezirk Zwettl\, Österreich;X-APPLE-RADIUS=10
 0;X-TITLE=Café Hofer:geo:48.364812,15.118076
END:VEVENT
BEGIN:VTIMEZONE
TZID:Europe/Vienna
X-LIC-LOCATION:Europe/Vienna
BEGIN:STANDARD
DTSTART:20251026T020000
TZOFFSETFROM:+0200
TZOFFSETTO:+0100
TZNAME:CET
END:STANDARD
END:VTIMEZONE
END:VCALENDAR