BEGIN:VCALENDAR
VERSION:2.0
PRODID:-//wp-events-plugin.com//6.6.5//EN
TZID:Europe/Vienna
X-WR-TIMEZONE:Europe/Vienna
BEGIN:VEVENT
UID:219@gutenbrunn.gv.at
DTSTART;TZID=Europe/Vienna:20260321T193000
DTEND;TZID=Europe/Vienna:20260321T223000
DTSTAMP:20260305T072334Z
URL:https://www.gutenbrunn.gv.at/veranstaltungen/yasmo-und-die-klangkantin
 e/
SUMMARY:Yasmo und die Klangkantine
DESCRIPTION:Augen auf &amp\; durch\nNach gefeierten Konzerten und ausverkau
 ften Shows kehren die wortgewaltige Rapperin und ihre Big Band mit neuem A
 lbum zurück auf die Bühne. Musikalisch gehen sie noch einen Schritt weit
 er: Der unverkennbare Mix aus Rap\, Jazz und großer Bläser-Power klingt 
 facettenreicher\, mutiger – und trifft wie immer direkt ins Herz und auf
  die Zwölf. Wer Yasmo &amp\; die Klangkantine live erlebt hat\, weiß: me
 sserscharfe Lyrik trifft auf mitreißende Arrangements\, explosive Spielfr
 eude auf klare Haltung. Wer sie noch nicht gesehen hat\, sollte das dringe
 nd nachholen! \n\nIm Truckerhaus tritt Yasmo in kleiner Besetzung auf – 
 eine einmalige Chance\, die Ausnahmekünstlerin in einzigartiger Clubatmos
 phäre zu erleben.\n\nIn Zusammenarbeit mit der Musikfabrik NÖ
ATTACH;FMTTYPE=image/jpeg:https://www.gutenbrunn.gv.at/wp-content/uploads/
 2025/11/IMG_0059.jpeg
CATEGORIES:Musik
LOCATION:Truckerhaus\, Nr. 24\, Gutenbrunn\, Niederösterreich\, 3665\, Bez
 irk Zwettl\, Österreich
GEO:48.365287354257774;15.118324037009826
X-APPLE-STRUCTURED-LOCATION;VALUE=URI;X-ADDRESS=Nr. 24\, Gutenbrunn\, Niede
 rösterreich\, 3665\, Bezirk Zwettl\, Österreich;X-APPLE-RADIUS=100;X-TIT
 LE=Truckerhaus:geo:48.365287354257774,15.118324037009826
END:VEVENT
BEGIN:VTIMEZONE
TZID:Europe/Vienna
X-LIC-LOCATION:Europe/Vienna
BEGIN:STANDARD
DTSTART:20251026T020000
TZOFFSETFROM:+0200
TZOFFSETTO:+0100
TZNAME:CET
END:STANDARD
END:VTIMEZONE
END:VCALENDAR